BEGIN:VCALENDAR
VERSION:2.0
PRODID:Events Booking
BEGIN:VEVENT
UID:69e4c1aa18b73
SUMMARY:MERCADEO VERDE: DISEÑA CAMPAÑAS AMBIENTALMENTE RESPONSABLES ALINE
 ADAS CON LOS PRINCIPIOS DE SOSTENIBILIDAD
DESCRIPTION:Al finalizar el curso\, los participantes habrán aprendido a c
 rear y ejecutar una estrategia de marketing que impulse productos y servic
 ios respetuosos con el medio ambiente\, haciendo uso de recursos responsab
 les y generando valor económico y social. Con un enfoque eminentemente pr
 áctico\, los y las asistentes aprenderán a llevar a cabo acciones concre
 tas que no solo atraigan a consumidores conscientes\, sino que también po
 sicionen a sus marcas como referentes en sostenibilidad.
DTSTART:20260312T130000Z
DTEND:20260319T150000Z
DTSTAMP:20260117T233828Z
ORGANIZER;CN=Pacto Global Red Colombia:MAILTO:eventos@pactoglobal-colombia.
 org
END:VEVENT
END:VCALENDAR